BEGIN:VCALENDAR
VERSION:2.0
PRODID:-//Groomers Europe - ECPv6.15.20//NONSGML v1.0//EN
CALSCALE:GREGORIAN
METHOD:PUBLISH
X-ORIGINAL-URL:https://groomerseurope.com
X-WR-CALDESC:Evenementen voor Groomers Europe
REFRESH-INTERVAL;VALUE=DURATION:PT1H
X-Robots-Tag:noindex
X-PUBLISHED-TTL:PT1H
BEGIN:VTIMEZONE
TZID:Europe/Amsterdam
BEGIN:DAYLIGHT
TZOFFSETFROM:+0100
TZOFFSETTO:+0200
TZNAME:CEST
DTSTART:20230326T010000
END:DAYLIGHT
BEGIN:STANDARD
TZOFFSETFROM:+0200
TZOFFSETTO:+0100
TZNAME:CET
DTSTART:20231029T010000
END:STANDARD
BEGIN:DAYLIGHT
TZOFFSETFROM:+0100
TZOFFSETTO:+0200
TZNAME:CEST
DTSTART:20240331T010000
END:DAYLIGHT
BEGIN:STANDARD
TZOFFSETFROM:+0200
TZOFFSETTO:+0100
TZNAME:CET
DTSTART:20241027T010000
END:STANDARD
BEGIN:DAYLIGHT
TZOFFSETFROM:+0100
TZOFFSETTO:+0200
TZNAME:CEST
DTSTART:20250330T010000
END:DAYLIGHT
BEGIN:STANDARD
TZOFFSETFROM:+0200
TZOFFSETTO:+0100
TZNAME:CET
DTSTART:20251026T010000
END:STANDARD
END:VTIMEZONE
BEGIN:VEVENT
DTSTART;VALUE=DATE:20240421
DTEND;VALUE=DATE:20240422
DTSTAMP:20260419T173836
CREATED:20240402T012953Z
LAST-MODIFIED:20240402T012953Z
UID:10000453-1713657600-1713743999@groomerseurope.com
SUMMARY:Workshop Asian Salon Style / beertjesmodel
DESCRIPTION:Altijd al een mooi hoofdje willen kunnen knippen en wil je dit graag leren?\nOf wil je graag een Asian modelletje leren knippen of poedel e.d. (krulvacht) in beertjesmodel leren knippen?
URL:https://groomerseurope.com/evenement/workshop-asian-salon-style-beertjesmodel/
LOCATION:Eijndhoven\, Eijndhoven\, Nederland
ATTACH;FMTTYPE=image/jpeg:https://groomerseurope.com/wp-content/uploads/2024/04/2024-tanja.jpg
ORGANIZER;CN="Tanja van der Vooren - Traa":MAILTO:tanjatraa@gmail.com
END:VEVENT
BEGIN:VEVENT
DTSTART;VALUE=DATE:20240407
DTEND;VALUE=DATE:20240408
DTSTAMP:20260419T173836
CREATED:20240402T012826Z
LAST-MODIFIED:20240402T012826Z
UID:10000451-1712448000-1712534399@groomerseurope.com
SUMMARY:workshop Asian Salon Style / of beertjesmodel
DESCRIPTION:Altijd al een mooi hoofdje willen kunnen knippen en wil je dit graag leren?\nOf wil je graag een Asian modelletje leren knippen of poedel e.d. (krulvacht) in beertjesmodel leren knippen? \n 
URL:https://groomerseurope.com/evenement/workshop-asian-salon-style-of-beertjesmodel/2024-04-07/1/
LOCATION:Eijndhoven\, Eijndhoven\, Nederland
ATTACH;FMTTYPE=image/jpeg:https://groomerseurope.com/wp-content/uploads/2024/04/2024-tanja.jpg
ORGANIZER;CN="Tanja van der Vooren - Traa":MAILTO:tanjatraa@gmail.com
END:VEVENT
BEGIN:VEVENT
DTSTART;VALUE=DATE:20240407
DTEND;VALUE=DATE:20240408
DTSTAMP:20260419T173836
CREATED:20240402T012826Z
LAST-MODIFIED:20240402T012826Z
UID:10000452-1712476800-1712509200@groomerseurope.com
SUMMARY:workshop Asian Salon Style / of beertjesmodel
DESCRIPTION:Altijd al een mooi hoofdje willen kunnen knippen en wil je dit graag leren?\nOf wil je graag een Asian modelletje leren knippen of poedel e.d. (krulvacht) in beertjesmodel leren knippen? \n 
URL:https://groomerseurope.com/evenement/workshop-asian-salon-style-of-beertjesmodel/2024-04-07/2/
LOCATION:Eijndhoven\, Eijndhoven\, Nederland
ATTACH;FMTTYPE=image/jpeg:https://groomerseurope.com/wp-content/uploads/2024/04/2024-tanja.jpg
ORGANIZER;CN="Tanja van der Vooren - Traa":MAILTO:tanjatraa@gmail.com
END:VEVENT
END:VCALENDAR